BEGIN:VCALENDAR
VERSION:2.0
PRODID:-//Chillon - ECPv5.16.0//NONSGML v1.0//EN
CALSCALE:GREGORIAN
METHOD:PUBLISH
X-WR-CALNAME:Chillon
X-ORIGINAL-URL:https://www.chillon.ch/en/
X-WR-CALDESC:Events for Chillon
BEGIN:VTIMEZONE
TZID:Europe/Paris
BEGIN:DAYLIGHT
TZOFFSETFROM:+0100
TZOFFSETTO:+0200
TZNAME:CEST
DTSTART:20220327T010000
END:DAYLIGHT
BEGIN:STANDARD
TZOFFSETFROM:+0200
TZOFFSETTO:+0100
TZNAME:CET
DTSTART:20221030T010000
END:STANDARD
END:VTIMEZONE
BEGIN:VEVENT
DTSTART;TZID=Europe/Paris:20220802T140000
DTEND;TZID=Europe/Paris:20220802T160000
DTSTAMP:20260419T212348
CREATED:20220602T141730Z
LAST-MODIFIED:20220627T134152Z
UID:13718-1659448800-1659456000@www.chillon.ch
SUMMARY:‘A stitch in time’ embroidery workshop
DESCRIPTION:Kids workshop « A stitch in time » \nWorkshop by reservation\, in French\, for children aged between 8 and 14 years old. Admission is free for 2 accompanying persons\, no accompanying persons during the workshop. \nQue faisait une grande dame ou un jeune damoiseau durant son temps libre ? Viens découvrir l’un des loisirs les plus en vogue à la cour de Savoie en te plongeant dans les volutes du tissu et les mystères de la broderie ! Tu apprendras ainsi à personnaliser ton sac ou un habit d’une manière vraiment originale. \nAtelier sur réservation\, en français et destiné aux enfants âgés entre 8 et 12 ans. Entrée offerte à 2 accompagnants·es\, pas d’accompagnant-e durant l’atelier. \nLieu de rendez-vous : 1ère cour \nDates: le mardi 5 et le jeudi 14 juillet ; mardi 2 août \nHoraires: 14h \nDurée: 120 minutes \nPrix: CHF 17.- Entrées offertes à 2 accompagnants·es\, pas d’accompagnant·e durant l’atelier. Gratuit pour les membres du club Drako. \nRéservation obligatoire\, non-remboursable. \nVous cherchez une autre activité cet été\, voici le tableau de tous les événements de la programmation estivale 2022.
URL:https://www.chillon.ch/en/evenement/atelier-enfants-au-fil-de-laiguille/2022-08-02/
CATEGORIES:Workshop
ATTACH;FMTTYPE=image/png:https://www.chillon.ch/wp-content/uploads/2022/05/broderie.png
END:VEVENT
BEGIN:VEVENT
DTSTART;TZID=Europe/Paris:20220802T140000
DTEND;TZID=Europe/Paris:20220802T160000
DTSTAMP:20260419T212348
CREATED:20220621T085942Z
LAST-MODIFIED:20220621T085942Z
UID:12928-1659448800-1659456000@www.chillon.ch
SUMMARY:‘A stitch in time’ embroidery workshop
DESCRIPTION:‘A stitch in time’ embroidery workshop \n  \nWorkshop by reservation\, in French\, for children aged between 8 and 12 years old. Admission is free for 2 accompanying persons\, no accompanying persons during the workshop. \nDécouvre les différents points de broderie réalisés au Moyen Âge ! Choisi ensuite ton modèle favori ou invente ton propre motif pour réaliser un super marque-page ! Apprends-en également plus sur cette occupation\,  très appréciée par la noblesse médiévale. \n\nAtelier destiné aux enfants de 8 à 12 ans. \n\nLieu de rendez-vous : Chambre d’Allinges (salle n°27) \nDates: mardi 5 et jeudi 14 juillet\, mardi 2 août \nHoraires: 14h00 en français \nDurée: 120 minutes \nPrix: CHF 17.- /enfant. Entrée et prestation offertes à deux accompagnants\, pas d’accompagnant·e durant l’atelier. Gratuit pour les membres du club Drako. \nRéservation obligatoire\, non-remboursable.
URL:https://www.chillon.ch/en/evenement/a-stitch-in-time-embroidery-workshop/2022-08-02/
ATTACH;FMTTYPE=image/png:https://www.chillon.ch/wp-content/uploads/2022/05/broderie.png
END:VEVENT
END:VCALENDAR